BEGIN:VCALENDAR
VERSION:2.0
PRODID:SchoolNow
CALSCALE:GREGORIAN
BEGIN:VEVENT
UID:2d37e85e-dd8f-11ef-adfa-0e956362e35d
DTSTAMP:20250128T154728Z
SUMMARY:POSTPONED: Girls Varsity Basketball @ Hannibal
LOCATION:Hannibal H S
URL;VALUE=URI:https://www.uticaschools.org/departments/athletics/calendar/7
 386050/postponed-girls-varsity-basketball-hannibal
DTSTART:20250106T233000Z
DTEND:20250107T010000Z
END:VEVENT
END:VCALENDAR
