BEGIN:VCALENDAR
VERSION:2.0
PRODID:SchoolNow
CALSCALE:GREGORIAN
BEGIN:VEVENT
UID:2dc640b8-dd8f-11ef-b8f2-0e956362e35d
DTSTAMP:20250128T154728Z
SUMMARY:Boys Modified 8/9 Basketball @ Cicero-North Syracuse
LOCATION:NSJHS Main Gym
URL;VALUE=URI:https://www.uticaschools.org/departments/athletics/calendar/7
 386155/boys-modified-8-9-basketball-cicero-north-syracuse
DTSTART:20250110T213000Z
DTEND:20250110T231500Z
END:VEVENT
END:VCALENDAR
