BEGIN:VCALENDAR
VERSION:2.0
PRODID:SchoolNow
CALSCALE:GREGORIAN
BEGIN:VEVENT
UID:2dc6a878-dd8f-11ef-9804-0e956362e35d
DTSTAMP:20250128T154728Z
SUMMARY:Girls (Combined) Varsity Ice Hockey v. TBD
URL;VALUE=URI:https://www.uticaschools.org/departments/athletics/calendar/7
 386212/girls-combined-varsity-ice-hockey-v-tbd
DTSTART:20250213T233000Z
DTEND:20250214T003000Z
END:VEVENT
END:VCALENDAR
