BEGIN:VCALENDAR
VERSION:2.0
PRODID:SchoolNow
CALSCALE:GREGORIAN
BEGIN:VEVENT
UID:2e28bd9c-dd8f-11ef-afc6-0e956362e35d
DTSTAMP:20250128T154729Z
SUMMARY:Girls Varsity Gymnastics Whitesboro @ Rome Free Academy
LOCATION:Valley Gymnastics Center
URL;VALUE=URI:https://www.uticaschools.org/departments/athletics/calendar/7
 386312/girls-varsity-gymnastics-whitesboro-rome-free-academy
DTSTART:20241010T220000Z
DTEND:20241010T230000Z
END:VEVENT
END:VCALENDAR
