BEGIN:VCALENDAR
VERSION:2.0
PRODID:SchoolNow
CALSCALE:GREGORIAN
BEGIN:VEVENT
UID:2e8d61d4-dd8f-11ef-984e-0e956362e35d
DTSTAMP:20250128T154730Z
SUMMARY:Girls Junior Varsity Volleyball @ Frankfort-Schuyler
LOCATION:FSHS Small Gym
URL;VALUE=URI:https://www.uticaschools.org/departments/athletics/calendar/7
 386426/girls-junior-varsity-volleyball-frankfort-schuyler
DTSTART:20241126T223000Z
DTEND:20241126T233000Z
END:VEVENT
END:VCALENDAR
