BEGIN:VCALENDAR
VERSION:2.0
PRODID:SchoolNow
CALSCALE:GREGORIAN
BEGIN:VEVENT
UID:302d4748-dd8f-11ef-8c5e-0e956362e35d
DTSTAMP:20250128T154733Z
SUMMARY:(B) 7/8TH Soccer (JFK) - Practice (2:30 PM)
LOCATION:JFK Practice Field
URL;VALUE=URI:https://www.uticaschools.org/departments/athletics/calendar/7
 386822/b-7-8th-soccer-jfk-practice-2-30-pm
DTSTART:20241014T183000Z
DTEND:20241014T201500Z
END:VEVENT
END:VCALENDAR
