BEGIN:VCALENDAR
VERSION:2.0
PRODID:SchoolNow
CALSCALE:GREGORIAN
BEGIN:VEVENT
UID:302d4db0-dd8f-11ef-bb96-0e956362e35d
DTSTAMP:20250128T154733Z
SUMMARY:Boys Modified 8/9 Basketball v. Fulton
LOCATION:JFK Gym
URL;VALUE=URI:https://www.uticaschools.org/departments/athletics/calendar/7
 386828/boys-modified-8-9-basketball-v-fulton
DTSTART:20241120T223000Z
DTEND:20241120T233000Z
END:VEVENT
END:VCALENDAR
