BEGIN:VCALENDAR
VERSION:2.0
PRODID:SchoolNow
CALSCALE:GREGORIAN
BEGIN:VEVENT
UID:3112dea2-dd8f-11ef-8409-0e956362e35d
DTSTAMP:20250128T154734Z
SUMMARY:POSTPONED: Boys (Mohawk Valley Jugglers) Varsity Ice Hockey @ Cazen
 ovia (Caz/ME/Ham)
LOCATION:Morrisville IcePlex
URL;VALUE=URI:https://www.uticaschools.org/departments/athletics/calendar/7
 387024/postponed-boys-mohawk-valley-jugglers-varsity-ice-hockey-cazenovia-
 caz-me-ham
DTSTART:20250128T233000Z
DTEND:20250129T003000Z
END:VEVENT
END:VCALENDAR
