BEGIN:VCALENDAR
VERSION:2.0
PRODID:SchoolNow
CALSCALE:GREGORIAN
BEGIN:VEVENT
UID:317b37c2-dd8f-11ef-99d9-0e956362e35d
DTSTAMP:20250128T154735Z
SUMMARY:POWDER PUFF GAME @ PHS Stadium (Turf Field/Track) (11:00 AM)
LOCATION:PHS Stadium (Turf Field/Track)
URL;VALUE=URI:https://www.uticaschools.org/departments/athletics/calendar/7
 387039/powder-puff-game-phs-stadium-turf-field-track-11-00-am
DTSTART:20241013T150000Z
DTEND:20241013T160000Z
END:VEVENT
END:VCALENDAR
