BEGIN:VCALENDAR
VERSION:2.0
PRODID:SchoolNow
CALSCALE:GREGORIAN
BEGIN:VEVENT
UID:317b5f90-dd8f-11ef-879a-0e956362e35d
DTSTAMP:20250128T154735Z
SUMMARY:PHS Girls Volleyball @ PHS AUX Gym (Volleyball gym) (5:00 PM)
LOCATION:PHS AUX Gym (Volleyball gym)
URL;VALUE=URI:https://www.uticaschools.org/departments/athletics/calendar/7
 387082/phs-girls-volleyball-phs-aux-gym-volleyball-gym-5-00-pm
DTSTART:20241023T210000Z
DTEND:20241023T233000Z
END:VEVENT
END:VCALENDAR
